BEGIN:VCALENDAR
VERSION:2.0
PRODID:-//wp-events-plugin.com//7.2.3.1//EN
TZID:Europe/Berlin
X-WR-TIMEZONE:Europe/Berlin
BEGIN:VEVENT
UID:12@rn-wassersport.de
DTSTART;TZID=Europe/Berlin:20250806T173000
DTEND;TZID=Europe/Berlin:20250806T193000
DTSTAMP:20250727T084716Z
URL:https://www.rn-wassersport.de/termine/sup-yoga-kurs-mit-olga-5/
SUMMARY:SUP Yoga Kurs mit Olga
DESCRIPTION:\n 	SUP Yoga Kurs mit Olga in Niedernberg auf dem Silbersee.\nT
 ermine:\nSamstag 26.07.2025 von 14:30 bis 16:30 Uhr\nMittwoch 30.07.2025 v
 on 17:30 bis 19:30 Uhr.\nSamstag 02.08.2025 von 14:30 bis 16:30 Uhr\nMittw
 och 06.08.2025 von 17:30 bis 19:30 Uhr.\nSamstag 09.08.2025 von 14:30 bis 
 16:30 Uhr\nMittwoch 13.08.2025 von 17:30 bis 19:30 Uhr.\nSamstag 16.08.202
 5 von 14:30 bis 16:30 Uhr\nMittwoch 20.08.2025 von 17:30 bis 19:30 Uhr.\nS
 amstag 23.08.2025 von 14:30 bis 16:30 Uhr\nMittwoch 27.08.2025 von 17:30 b
 is 19:30 Uhr.\nSamstag 30.08.2025 von 14:30 bis 16:30 Uhr\nMittwoch 03.09.
 2025 von 17:30 bis 19:30 Uhr.\nWeitere Termine fur Gruppen ab 4 Personen m
 öglich.\nDauer Yoga an Land 0\,5 Stunden\, auf dem Wasser ca. 1 Stunde\, 
 gesamt 2 Stunden.\n\n&nbsp\;
ATTACH;FMTTYPE=image/jpeg:https://www.rn-wassersport.de/wp-content/uploads
 /2025/07/olga-yoga1-scaled.jpeg
CATEGORIES:SUP Grundkurs,SUP YOGA
LOCATION:Am Silbersee in Niedernberg\, Segel und Surfclub 1980e.v. \, Niede
 rnberg\, Bayern\, 63843\, Deutschland
X-APPLE-STRUCTURED-LOCATION;VALUE=URI;X-ADDRESS=Segel und Surfclub 1980e.v.
  \, Niedernberg\, Bayern\, 63843\, Deutschland;X-APPLE-RADIUS=100;X-TITLE=
 Am Silbersee in Niedernberg:geo:0,0
END:VEVENT
BEGIN:VTIMEZONE
TZID:Europe/Berlin
X-LIC-LOCATION:Europe/Berlin
BEGIN:DAYLIGHT
DTSTART:20250330T030000
TZOFFSETFROM:+0100
TZOFFSETTO:+0200
TZNAME:CEST
END:DAYLIGHT
END:VTIMEZONE
END:VCALENDAR