BEGIN:VCALENDAR
VERSION:2.0
PRODID:-//wp-events-plugin.com//7.2.3.1//EN
TZID:Europe/Berlin
X-WR-TIMEZONE:Europe/Berlin
BEGIN:VEVENT
UID:17@rn-wassersport.de
DTSTART;TZID=Europe/Berlin:20250830T143000
DTEND;TZID=Europe/Berlin:20250830T163000
DTSTAMP:20250830T005204Z
URL:https://www.rn-wassersport.de/termine/sup-yoga-kurs-mit-olga-12/
SUMMARY:SUP Yoga Kurs mit Olga (findet nicht statt)
DESCRIPTION:SUP Yoga Schnupperkurs mit Olga in Niedernberg auf dem Silberse
 e.\nAuch für Anfänger geeignet\, Olga geht auf jeden einzelnen Teilnehme
 r ein.\nDie Gruppe ist auf maximal 6 Teilnehmer begrenzt.\n\nTermine:\n\nS
 amstag 30.08.2025 von 14:30 bis 16:30 Uhr\n\nWeitere Termine fur Gruppen a
 b 4 Personen möglich.\nDauer Yoga an Land 0\,5 Stunden\, auf dem Wasser c
 a. 1\,5 Stunde\, gesamt 2 Stunden.\n\nBitte unbedingt anmelden.\nWenn bis 
 freitags 20 Uhr keine Anmeldung vorliegt\, wird der Kurs storniert.\nBei s
 chlechtem Wetter wird der Kurs abgesagt.\nZahlung in Bar am Kurstag\, kein
 e Vorauszahlung.\n\n&nbsp\;
ATTACH;FMTTYPE=image/jpeg:https://www.rn-wassersport.de/wp-content/uploads
 /2025/07/olga-yoga1-scaled.jpeg
CATEGORIES:SUP Grundkurs,SUP YOGA
LOCATION:Am Silbersee in Niedernberg\, Segel und Surfclub 1980e.v. \, Niede
 rnberg\, Bayern\, 63843\, Deutschland
X-APPLE-STRUCTURED-LOCATION;VALUE=URI;X-ADDRESS=Segel und Surfclub 1980e.v.
  \, Niedernberg\, Bayern\, 63843\, Deutschland;X-APPLE-RADIUS=100;X-TITLE=
 Am Silbersee in Niedernberg:geo:0,0
END:VEVENT
BEGIN:VTIMEZONE
TZID:Europe/Berlin
X-LIC-LOCATION:Europe/Berlin
BEGIN:DAYLIGHT
DTSTART:20250330T030000
TZOFFSETFROM:+0100
TZOFFSETTO:+0200
TZNAME:CEST
END:DAYLIGHT
END:VTIMEZONE
END:VCALENDAR