BEGIN:VCALENDAR
VERSION:2.0
PRODID:-//wp-events-plugin.com//7.2.3.1//EN
TZID:Europe/Berlin
X-WR-TIMEZONE:Europe/Berlin
BEGIN:VEVENT
UID:22@rn-wassersport.de
DTSTART;TZID=Europe/Berlin:20260513T173000
DTEND;TZID=Europe/Berlin:20260513T193000
DTSTAMP:20260418T092138Z
URL:https://www.rn-wassersport.de/termine/sup-kurs-fuer-anfaenger-2/
SUMMARY:SUP Kurs für Anfänger
DESCRIPTION:SUP Kurs für Anfänger in Niedernberg auf dem Silbersee. Termi
 n 13.05.2026 von 17:30 bis 19:30 Uhr.  Bei Interessen bitte melden\, es s
 ind insgesamt 5 Plätze frei.
ATTACH;FMTTYPE=image/jpeg:https://www.rn-wassersport.de/wp-content/uploads
 /2024/04/IMG_20220803_171953-scaled-e1743353673600.jpg
CATEGORIES:SUP Grundkurs
LOCATION:Am Silbersee in Niedernberg\, Segel und Surfclub 1980e.v. \, Niede
 rnberg\, Bayern\, 63843\, Deutschland
X-APPLE-STRUCTURED-LOCATION;VALUE=URI;X-ADDRESS=Segel und Surfclub 1980e.v.
  \, Niedernberg\, Bayern\, 63843\, Deutschland;X-APPLE-RADIUS=100;X-TITLE=
 Am Silbersee in Niedernberg:geo:0,0
END:VEVENT
BEGIN:VTIMEZONE
TZID:Europe/Berlin
X-LIC-LOCATION:Europe/Berlin
BEGIN:DAYLIGHT
DTSTART:20260329T030000
TZOFFSETFROM:+0100
TZOFFSETTO:+0200
TZNAME:CEST
END:DAYLIGHT
END:VTIMEZONE
END:VCALENDAR