BEGIN:VCALENDAR
VERSION:2.0
PRODID:-//wp-events-plugin.com//7.2.3.1//EN
TZID:Europe/Berlin
X-WR-TIMEZONE:Europe/Berlin
BEGIN:VEVENT
UID:23@rn-wassersport.de
DTSTART;TZID=Europe/Berlin:20260513T093000
DTEND;TZID=Europe/Berlin:20260513T113000
DTSTAMP:20260418T103538Z
URL:https://www.rn-wassersport.de/termine/lady-sup-kurs/
SUMMARY:Lady-SUP Kurs
DESCRIPTION:SUP Kurs nur für Damen in Niedernberg auf dem Silbersee. Termi
 n 13.05.2026 von 9:30 bis 11:30 Uhr.  Bei Interessen bitte melden\, es si
 nd insgesamt 5 Plätze frei.\nBei schlechtem Wetter fällt der Kurs aus.
ATTACH;FMTTYPE=image/jpeg:https://www.rn-wassersport.de/wp-content/uploads
 /2024/04/IMG_20220803_171953-scaled-e1743353673600.jpg
CATEGORIES:SUP Grundkurs
LOCATION:Am Silbersee in Niedernberg\, Segel und Surfclub 1980e.v. \, Niede
 rnberg\, Bayern\, 63843\, Deutschland
X-APPLE-STRUCTURED-LOCATION;VALUE=URI;X-ADDRESS=Segel und Surfclub 1980e.v.
  \, Niedernberg\, Bayern\, 63843\, Deutschland;X-APPLE-RADIUS=100;X-TITLE=
 Am Silbersee in Niedernberg:geo:0,0
END:VEVENT
BEGIN:VTIMEZONE
TZID:Europe/Berlin
X-LIC-LOCATION:Europe/Berlin
BEGIN:DAYLIGHT
DTSTART:20260329T030000
TZOFFSETFROM:+0100
TZOFFSETTO:+0200
TZNAME:CEST
END:DAYLIGHT
END:VTIMEZONE
END:VCALENDAR